BEGIN:VCALENDAR
VERSION:2.0
PRODID:-//Modri december - ECPv6.15.12.1//NONSGML v1.0//EN
CALSCALE:GREGORIAN
METHOD:PUBLISH
X-WR-CALNAME:Modri december
X-ORIGINAL-URL:https://www.modridecember.si
X-WR-CALDESC:Dogodki za Modri december
REFRESH-INTERVAL;VALUE=DURATION:PT1H
X-Robots-Tag:noindex
X-PUBLISHED-TTL:PT1H
BEGIN:VTIMEZONE
TZID:Europe/Ljubljana
BEGIN:DAYLIGHT
TZOFFSETFROM:+0100
TZOFFSETTO:+0200
TZNAME:CEST
DTSTART:20250330T010000
END:DAYLIGHT
BEGIN:STANDARD
TZOFFSETFROM:+0200
TZOFFSETTO:+0100
TZNAME:CET
DTSTART:20251026T010000
END:STANDARD
BEGIN:DAYLIGHT
TZOFFSETFROM:+0100
TZOFFSETTO:+0200
TZNAME:CEST
DTSTART:20260329T010000
END:DAYLIGHT
BEGIN:STANDARD
TZOFFSETFROM:+0200
TZOFFSETTO:+0100
TZNAME:CET
DTSTART:20261025T010000
END:STANDARD
BEGIN:DAYLIGHT
TZOFFSETFROM:+0100
TZOFFSETTO:+0200
TZNAME:CEST
DTSTART:20270328T010000
END:DAYLIGHT
BEGIN:STANDARD
TZOFFSETFROM:+0200
TZOFFSETTO:+0100
TZNAME:CET
DTSTART:20271031T010000
END:STANDARD
END:VTIMEZONE
BEGIN:VEVENT
DTSTART;TZID=Europe/Ljubljana:20260520T120000
DTEND;TZID=Europe/Ljubljana:20260620T180000
DTSTAMP:20260425T160435
CREATED:20260425T093419Z
LAST-MODIFIED:20260425T094801Z
UID:5503-1779278400-1781978400@www.modridecember.si
SUMMARY:Vabljeni na stojnico zavoda na dogodku Veseli dan prostovoljstva - Tukaj raste prihodnost
DESCRIPTION:Tudi letos boš na zavod sodeloval na dogodku Veseli dan prostovoljstva – Tukaj raste prihodnost. Zato vas vabimo na dogodek in druženja ob naši stojnici v sredo\, 20. maja \, na pokriti mestni tržnici v Kopru. \n \n“Letošnje srečanje želimo nadgraditi v nekaj več kot le predstavitev organizacij. Želimo ustvariti živ prostor skupnosti\, kjer prostovoljstvo ne bo le predstavljeno\, temveč tudi doživeto. Dogodek zato povezujemo z mednarodnim letom prostovoljstva (IVY 2026) in cilji trajnostnega razvoja Združenih narodov\, pod skupno mislijo z Obale\, da tukaj raste prihodnost\,” povedo organizatorji. \nNa naši stojnici bomo na voljo za vsa vprašanja o avtizmu\, prostovoljstvu ter tudi našem zavodu na sploh. Skupaj z nami in aktivnostmi na dogodku ne boste prostovoljstvo samo spoznali vendar začutili. Kako smo se imeli lani? KLIK. \n \nDogodek bo zasnovan kot potovanje skozi vrednote in cilje\, kjer bodo obiskovalci skozi srečevanje z vami odkrivali različne pobude\, sodelovali v aktivnostih in spoznavali\, kako prostovoljstvo soustvarja družbo. Posebno pozornost bodo namenili vključevanju mladih kot soustvarjalcev in ambasadorjev\, obenem pa bodo k dogodku povabili tudi odločevalce in financerje\, da pobližje spoznajo vaše delo ter pomen prostovoljstva v lokalnem okolju. \n \n“Verjamemo\, da prostovoljstvo danes ni več le pomoč\, temveč način soustvarjanja družbe\, in da organizacije niste le izvajalci aktivnosti\, ampak nosilci sprememb. Prav zato želimo skupaj ustvariti prostor\, kjer se ne predstavljamo le\, temveč povezujemo\, navdihujemo in gradimo prihodnost.” je jasen odziv Viktorja Kollárja koordinatorja prostovoljstva Mestne občine Koper. \n \nLetošnji dogodek nadaljuje zgodbo\, ki so jo začeli z akcijo »Tukaj raste prostovoljstvo«\, kjer smo skupaj z mladimi pokazali\, kako iz majhnih dejanj raste skupnost. Tokrat stopamo korak naprej — iz rasti v vpliv\, iz posameznih dejanj v skupno prihodnost. \nV lanskem letu se je prireditve udeležilo rekordno število sodelujočih organizacij – v letošnjem letu si želijo\, da z dogodkom ponovno zasedemo javni prostor s tako velikim številom izjemnih prostovoljskih organizacij\, organizacij s prostovoljskim programom in drugih društev ter iniciativ s katerimi bomo delili skupno popoldne in tako pomenljiv dogodek!
URL:https://www.modridecember.si/koledar_dogodek/vabljeni-na-stojnico-zavoda-na-dogodku-veseli-dan-prostovoljstva-tukaj-raste-prihodnost/
LOCATION:Pristaniška ulica 2\, Mestna tržnica Koper\, Koper\, 6000\, Slovenia
CATEGORIES:Dogodek
ATTACH;FMTTYPE=image/png:https://www.modridecember.si/wp-content/uploads/2026/04/unnamed.png
END:VEVENT
END:VCALENDAR